BEGIN:VCALENDAR
VERSION:2.0
PRODID:-//wp-events-plugin.com//7.2.3.1//EN
TZID:America/Chicago
X-WR-TIMEZONE:America/Chicago
BEGIN:VEVENT
UID:230@runbeerrepeat.com
DTSTART;TZID=America/Chicago:20221103T183000
DTEND;TZID=America/Chicago:20221103T203000
DTSTAMP:20221005T032130Z
URL:https://runbeerrepeat.com/events/run-for-november-3rd/
SUMMARY:Run for November 3rd
DESCRIPTION:Our run for November 3rd will be from MetroNOME Brewery.
CATEGORIES:Club Runs
LOCATION:MetroNOME Brewery\, 289 5th Street East\, St. Paul\, MN\, 55101\, 
 United States
X-APPLE-STRUCTURED-LOCATION;VALUE=URI;X-ADDRESS=289 5th Street East\, St. P
 aul\, MN\, 55101\, United States;X-APPLE-RADIUS=100;X-TITLE=MetroNOME Brew
 ery:geo:0,0
END:VEVENT
BEGIN:VTIMEZONE
TZID:America/Chicago
X-LIC-LOCATION:America/Chicago
BEGIN:DAYLIGHT
DTSTART:20220313T030000
TZOFFSETFROM:-0600
TZOFFSETTO:-0500
TZNAME:CDT
END:DAYLIGHT
END:VTIMEZONE
END:VCALENDAR