BEGIN:VCALENDAR
VERSION:2.0
PRODID:-//wp-events-plugin.com//7.2.3.1//EN
TZID:America/Chicago
X-WR-TIMEZONE:America/Chicago
BEGIN:VEVENT
UID:228@runbeerrepeat.com
DTSTART;TZID=America/Chicago:20221020T183000
DTEND;TZID=America/Chicago:20221020T203000
DTSTAMP:20221005T030835Z
URL:https://runbeerrepeat.com/events/run-for-october-20th/
SUMMARY:Run for October 20th
DESCRIPTION:Our run for October 20th will be from Venn Brewing\,
CATEGORIES:Club Runs
LOCATION:Venn Brewing\, 3550 E 46th St Suite 140\, Minneapolis\, MN\, 55406
 \, United States
GEO:44.9201983;-93.22033599999997
X-APPLE-STRUCTURED-LOCATION;VALUE=URI;X-ADDRESS=3550 E 46th St Suite 140\, 
 Minneapolis\, MN\, 55406\, United States;X-APPLE-RADIUS=100;X-TITLE=Venn B
 rewing:geo:44.9201983,-93.22033599999997
END:VEVENT
BEGIN:VTIMEZONE
TZID:America/Chicago
X-LIC-LOCATION:America/Chicago
BEGIN:DAYLIGHT
DTSTART:20220313T030000
TZOFFSETFROM:-0600
TZOFFSETTO:-0500
TZNAME:CDT
END:DAYLIGHT
END:VTIMEZONE
END:VCALENDAR