BEGIN:VCALENDAR
VERSION:2.0
PRODID:-//wp-events-plugin.com//7.2.3.1//EN
TZID:America/Chicago
X-WR-TIMEZONE:America/Chicago
BEGIN:VEVENT
UID:229@runbeerrepeat.com
DTSTART;TZID=America/Chicago:20221027T183000
DTEND;TZID=America/Chicago:20221027T203000
DTSTAMP:20221005T031340Z
URL:https://runbeerrepeat.com/events/run-for-october-27th-halloween-run/
SUMMARY:Run for October 27th - Halloween Run!
DESCRIPTION:Our run for October 27th will be from Headflyer Brewing Wear yo
 ur best costume for the contest after the run!
CATEGORIES:Club Runs
LOCATION:Headflyer Brewing\, 861 E. HENNEPIN AVE\, Minneapolis\, MN\, 55141
 4\, United States
GEO:44.991815;-93.24350299999998
X-APPLE-STRUCTURED-LOCATION;VALUE=URI;X-ADDRESS=861 E. HENNEPIN AVE\, Minne
 apolis\, MN\, 551414\, United States;X-APPLE-RADIUS=100;X-TITLE=Headflyer 
 Brewing:geo:44.991815,-93.24350299999998
END:VEVENT
BEGIN:VTIMEZONE
TZID:America/Chicago
X-LIC-LOCATION:America/Chicago
BEGIN:DAYLIGHT
DTSTART:20220313T030000
TZOFFSETFROM:-0600
TZOFFSETTO:-0500
TZNAME:CDT
END:DAYLIGHT
END:VTIMEZONE
END:VCALENDAR