BEGIN:VCALENDAR
VERSION:2.0
PRODID:-//wp-events-plugin.com//7.2.3.1//EN
TZID:America/Chicago
X-WR-TIMEZONE:America/Chicago
BEGIN:VEVENT
UID:251@runbeerrepeat.com
DTSTART;TZID=America/Chicago:20230423T130000
DTEND;TZID=America/Chicago:20230423T150000
DTSTAMP:20230406T183923Z
URL:https://runbeerrepeat.com/events/run-planning-meeting-venn-brewing/
SUMMARY:Run planning meeting @ Venn Brewing
DESCRIPTION:Join us at Venn Brewing for a run planning meeting an Sunday Ap
 ril 23rd. We'll be picking breweries for our runs for the July - December 
 months.
CATEGORIES:Other Events
LOCATION:Venn Brewing\, 3550 E 46th St Suite 140\, Minneapolis\, MN\, 55406
 \, United States
GEO:44.9201983;-93.22033599999997
X-APPLE-STRUCTURED-LOCATION;VALUE=URI;X-ADDRESS=3550 E 46th St Suite 140\, 
 Minneapolis\, MN\, 55406\, United States;X-APPLE-RADIUS=100;X-TITLE=Venn B
 rewing:geo:44.9201983,-93.22033599999997
END:VEVENT
BEGIN:VTIMEZONE
TZID:America/Chicago
X-LIC-LOCATION:America/Chicago
BEGIN:DAYLIGHT
DTSTART:20230312T030000
TZOFFSETFROM:-0600
TZOFFSETTO:-0500
TZNAME:CDT
END:DAYLIGHT
END:VTIMEZONE
END:VCALENDAR