BEGIN:VCALENDAR
VERSION:2.0
PRODID:-//wp-events-plugin.com//7.2.3.1//EN
TZID:America/Chicago
X-WR-TIMEZONE:America/Chicago
BEGIN:VEVENT
UID:196@runbeerrepeat.com
DTSTART;TZID=America/Chicago:20210902T183000
DTEND;TZID=America/Chicago:20210902T203000
DTSTAMP:20210825T025848Z
URL:https://runbeerrepeat.com/events/sept-2nd-run/
SUMMARY:Sept 2nd Run
DESCRIPTION:Our run for Sept 2nd will be from Falling Knife in Minneapolis!
CATEGORIES:Club Runs
LOCATION:Falling Knife Brewing\, 783 Harding St NE\, Minneapolis\, MN\, 554
 13\, United States
X-APPLE-STRUCTURED-LOCATION;VALUE=URI;X-ADDRESS=783 Harding St NE\, Minneap
 olis\, MN\, 55413\, United States;X-APPLE-RADIUS=100;X-TITLE=Falling Knife
  Brewing:geo:0,0
END:VEVENT
BEGIN:VTIMEZONE
TZID:America/Chicago
X-LIC-LOCATION:America/Chicago
BEGIN:DAYLIGHT
DTSTART:20210314T030000
TZOFFSETFROM:-0600
TZOFFSETTO:-0500
TZNAME:CDT
END:DAYLIGHT
END:VTIMEZONE
END:VCALENDAR