BEGIN:VCALENDAR
VERSION:2.0
PRODID:-//wp-events-plugin.com//7.2.3.1//EN
TZID:America/Chicago
X-WR-TIMEZONE:America/Chicago
BEGIN:VEVENT
UID:197@runbeerrepeat.com
DTSTART;TZID=America/Chicago:20210916T183000
DTEND;TZID=America/Chicago:20210916T203000
DTSTAMP:20210914T211019Z
URL:https://runbeerrepeat.com/events/september-16th-run/
SUMMARY:September 16th Run
DESCRIPTION:Our run for Sept 16th will be from Wooden Ship in Minneapolis
CATEGORIES:Club Runs
LOCATION:Wooden Ship Brewing\, 3300 W 44th St\, Minneapolis\, MN\, 55410\, 
 United States
X-APPLE-STRUCTURED-LOCATION;VALUE=URI;X-ADDRESS=3300 W 44th St\, Minneapoli
 s\, MN\, 55410\, United States;X-APPLE-RADIUS=100;X-TITLE=Wooden Ship Brew
 ing:geo:0,0
END:VEVENT
BEGIN:VTIMEZONE
TZID:America/Chicago
X-LIC-LOCATION:America/Chicago
BEGIN:DAYLIGHT
DTSTART:20210314T030000
TZOFFSETFROM:-0600
TZOFFSETTO:-0500
TZNAME:CDT
END:DAYLIGHT
END:VTIMEZONE
END:VCALENDAR