BEGIN:VCALENDAR
VERSION:2.0
PRODID:-//wp-events-plugin.com//7.2.3.1//EN
TZID:America/Chicago
X-WR-TIMEZONE:America/Chicago
BEGIN:VEVENT
UID:8@runbeerrepeat.com
DTSTART;TZID=America/Chicago:20140918T183000
DTEND;TZID=America/Chicago:20140918T200000
DTSTAMP:20140821T210125Z
URL:https://runbeerrepeat.com/events/september-18th-run/
SUMMARY:September 18th Run
DESCRIPTION:Come run with us! Our regularly scheduled 3rd Thursday run will
  be a blast!\n\nWe will be running starting at Sisyphus Brewing in Minneap
 olis. Join us for a 30 minute group run\, running about 3 miles. After the
  run we will check out the beer offerings at the Sisyphus Taproom!\n\nRSVP
  below and check back soon for the details on the 30 minute\, or 5k route 
 we will be running!
CATEGORIES:Club Runs
LOCATION:Sisyphus Brewing\, 712 Ontario Ave W\, Minneapolis\, MN\, 555403\,
  United States
GEO:44.973223;-93.288925
X-APPLE-STRUCTURED-LOCATION;VALUE=URI;X-ADDRESS=712 Ontario Ave W\, Minneap
 olis\, MN\, 555403\, United States;X-APPLE-RADIUS=100;X-TITLE=Sisyphus Bre
 wing:geo:44.973223,-93.288925
END:VEVENT
BEGIN:VTIMEZONE
TZID:America/Chicago
X-LIC-LOCATION:America/Chicago
BEGIN:DAYLIGHT
DTSTART:20140309T030000
TZOFFSETFROM:-0600
TZOFFSETTO:-0500
TZNAME:CDT
END:DAYLIGHT
END:VTIMEZONE
END:VCALENDAR