BEGIN:VCALENDAR
VERSION:2.0
PRODID:-//wp-events-plugin.com//7.2.3.1//EN
TZID:America/Chicago
X-WR-TIMEZONE:America/Chicago
BEGIN:VEVENT
UID:85@runbeerrepeat.com
DTSTART;TZID=America/Chicago:20170921T183000
DTEND;TZID=America/Chicago:20170921T200000
DTSTAMP:20170829T184206Z
URL:https://runbeerrepeat.com/events/september-21st-run/
SUMMARY:September 21st Run
DESCRIPTION:Our 3rd Thursday of September run will bring us to Modist Brewi
 ng in Minneapolis.
CATEGORIES:Club Runs
LOCATION:Modist Brewing\, 505 N 3rd St\, Minneapolis\, MN\, 55401\, United 
 States
GEO:44.985267;-93.27648310000001
X-APPLE-STRUCTURED-LOCATION;VALUE=URI;X-ADDRESS=505 N 3rd St\, Minneapolis\
 , MN\, 55401\, United States;X-APPLE-RADIUS=100;X-TITLE=Modist Brewing:geo
 :44.985267,-93.27648310000001
END:VEVENT
BEGIN:VTIMEZONE
TZID:America/Chicago
X-LIC-LOCATION:America/Chicago
BEGIN:DAYLIGHT
DTSTART:20170312T030000
TZOFFSETFROM:-0600
TZOFFSETTO:-0500
TZNAME:CDT
END:DAYLIGHT
END:VTIMEZONE
END:VCALENDAR