BEGIN:VCALENDAR
VERSION:2.0
PRODID:-//wp-events-plugin.com//7.2.3.1//EN
TZID:America/Chicago
X-WR-TIMEZONE:America/Chicago
BEGIN:VEVENT
UID:30@runbeerrepeat.com
DTSTART;TZID=America/Chicago:20150903T183000
DTEND;TZID=America/Chicago:20150903T200000
DTSTAMP:20150814T031144Z
URL:https://runbeerrepeat.com/events/september-3rd-run-2/
SUMMARY:September 3rd Run
DESCRIPTION:Our 1st Thursday of the month run at Steel Toe.
CATEGORIES:Club Runs
LOCATION:Steel Toe Brewing\, 4848 W 35th St\, St Louis Park\, MN\, 55416\, 
 United States
GEO:44.9408006;-93.34143599999999
X-APPLE-STRUCTURED-LOCATION;VALUE=URI;X-ADDRESS=4848 W 35th St\, St Louis P
 ark\, MN\, 55416\, United States;X-APPLE-RADIUS=100;X-TITLE=Steel Toe Brew
 ing:geo:44.9408006,-93.34143599999999
END:VEVENT
BEGIN:VTIMEZONE
TZID:America/Chicago
X-LIC-LOCATION:America/Chicago
BEGIN:DAYLIGHT
DTSTART:20150308T030000
TZOFFSETFROM:-0600
TZOFFSETTO:-0500
TZNAME:CDT
END:DAYLIGHT
END:VTIMEZONE
END:VCALENDAR