BEGIN:VCALENDAR
VERSION:2.0
PRODID:-//wp-events-plugin.com//7.2.3.1//EN
TZID:America/Chicago
X-WR-TIMEZONE:America/Chicago
BEGIN:VEVENT
UID:275@runbeerrepeat.com
DTSTART;TZID=America/Chicago:20240307T182000
DTEND;TZID=America/Chicago:20240307T203000
DTSTAMP:20231201T024730Z
URL:https://runbeerrepeat.com/events/steel-toe-brewing-on-thursday-march-7
 th/
SUMMARY:Steel Toe Brewing on Thursday March 7th
DESCRIPTION:Join us in St. Louis Park at Steel Toe Brewing for our 1st Marc
 h run. The group meets at 6:20 near the front of the brewery. We head out 
 at 6:30 for a run or walk for 15 minutes\, then turn around and come back 
 to socialize and drink some delicious beverages.  All running or walking 
 paces are welcome!
CATEGORIES:Club Runs
LOCATION:Steel Toe Brewing\, 4848 W 35th St\, St Louis Park\, MN\, 55416\, 
 United States
GEO:44.9408006;-93.34143599999999
X-APPLE-STRUCTURED-LOCATION;VALUE=URI;X-ADDRESS=4848 W 35th St\, St Louis P
 ark\, MN\, 55416\, United States;X-APPLE-RADIUS=100;X-TITLE=Steel Toe Brew
 ing:geo:44.9408006,-93.34143599999999
END:VEVENT
BEGIN:VTIMEZONE
TZID:America/Chicago
X-LIC-LOCATION:America/Chicago
BEGIN:STANDARD
DTSTART:20231105T010000
TZOFFSETFROM:-0500
TZOFFSETTO:-0600
TZNAME:CST
END:STANDARD
END:VTIMEZONE
END:VCALENDAR