BEGIN:VCALENDAR
VERSION:2.0
PRODID:-//wp-events-plugin.com//7.2.3.1//EN
TZID:America/Chicago
X-WR-TIMEZONE:America/Chicago
BEGIN:VEVENT
UID:289@runbeerrepeat.com
DTSTART;TZID=America/Chicago:20240411T182000
DTEND;TZID=America/Chicago:20240411T202000
DTSTAMP:20240409T234715Z
URL:https://runbeerrepeat.com/events/stone-arch-bridge-on-thursday-april-1
 1th/
SUMMARY:Stone Arch Bridge on Thursday April 11th
DESCRIPTION:Join us in Minneapolis as we do one last run across the Stone A
 rch Bridge before it closes for 2 years! We will run out of Fulton Brewing
  Co . The group meets at 6:20 near the front of the brewery. We head out a
 t 6:30 for a run or walk for 15 minutes\, then turn around and come back t
 o socialize and drink some delicious beverages.  All running or walking p
 aces are welcome!
CATEGORIES:Club Runs
LOCATION:Fulton Brewing\, 414 6th Ave North\, Minneapolis\, MN\, 55401\, Un
 ited States
GEO:44.984937;-93.27912300000003
X-APPLE-STRUCTURED-LOCATION;VALUE=URI;X-ADDRESS=414 6th Ave North\, Minneap
 olis\, MN\, 55401\, United States;X-APPLE-RADIUS=100;X-TITLE=Fulton Brewin
 g:geo:44.984937,-93.27912300000003
END:VEVENT
BEGIN:VTIMEZONE
TZID:America/Chicago
X-LIC-LOCATION:America/Chicago
BEGIN:DAYLIGHT
DTSTART:20240310T030000
TZOFFSETFROM:-0600
TZOFFSETTO:-0500
TZNAME:CDT
END:DAYLIGHT
END:VTIMEZONE
END:VCALENDAR