BEGIN:VCALENDAR
VERSION:2.0
PRODID:-//wp-events-plugin.com//7.2.3.1//EN
TZID:America/Chicago
X-WR-TIMEZONE:America/Chicago
BEGIN:VEVENT
UID:270@runbeerrepeat.com
DTSTART;TZID=America/Chicago:20240118T182000
DTEND;TZID=America/Chicago:20240118T203000
DTSTAMP:20231220T010433Z
URL:https://runbeerrepeat.com/events/the-market-at-malcolm-yards-on-thursd
 ay-january-18th/
SUMMARY:The Market At Malcolm Yards on Thursday January 18th
DESCRIPTION:Join us in Minneapolis at The Market At Malcolm Yards for our 2
 nd January run. The group meets at 6:20 near the front of the brewery. We 
 head out at 6:30 for a run or walk for 15 minutes\, then turn around and c
 ome back to socialize and drink some delicious beverages.  All running or
  walking paces are welcome! Reflective gear and lights are highly recommen
 ded.
CATEGORIES:Club Runs
LOCATION:The Market at Malcolm Yards\, 501 30th Ave SE\, Minneapolis\, MN\,
  55414\, United States
X-APPLE-STRUCTURED-LOCATION;VALUE=URI;X-ADDRESS=501 30th Ave SE\, Minneapol
 is\, MN\, 55414\, United States;X-APPLE-RADIUS=100;X-TITLE=The Market at M
 alcolm Yards:geo:0,0
END:VEVENT
BEGIN:VTIMEZONE
TZID:America/Chicago
X-LIC-LOCATION:America/Chicago
BEGIN:STANDARD
DTSTART:20231105T010000
TZOFFSETFROM:-0500
TZOFFSETTO:-0600
TZNAME:CST
END:STANDARD
END:VTIMEZONE
END:VCALENDAR