BEGIN:VCALENDAR
VERSION:2.0
PRODID:-//wp-events-plugin.com//7.2.3.1//EN
TZID:America/Chicago
X-WR-TIMEZONE:America/Chicago
BEGIN:VEVENT
UID:89@runbeerrepeat.com
DTSTART;TZID=America/Chicago;VALUE=DATE:20171001
DTEND;TZID=America/Chicago;VALUE=DATE:20171002
DTSTAMP:20170919T154711Z
URL:https://runbeerrepeat.com/events/twin-cities-marathon-cheering-squad/
SUMMARY:Twin Cities Marathon Cheering Squad
DESCRIPTION:Join RunBeerRepeat to cheer on the runners of the Twin Cities M
 arathon!
CATEGORIES:Popup Runs
END:VEVENT
BEGIN:VTIMEZONE
TZID:America/Chicago
X-LIC-LOCATION:America/Chicago
BEGIN:DAYLIGHT
DTSTART:20170312T030000
TZOFFSETFROM:-0600
TZOFFSETTO:-0500
TZNAME:CDT
END:DAYLIGHT
END:VTIMEZONE
END:VCALENDAR