BEGIN:VCALENDAR
VERSION:2.0
PRODID:-//wp-events-plugin.com//7.2.3.1//EN
TZID:America/Chicago
X-WR-TIMEZONE:America/Chicago
BEGIN:VEVENT
UID:328@runbeerrepeat.com
DTSTART;TZID=America/Chicago:20260205T183000
DTEND;TZID=America/Chicago:20260205T190000
DTSTAMP:20250912T172318Z
URL:https://runbeerrepeat.com/events/urban-growler-brewing-company/
SUMMARY:Urban Growler Brewing Company
DESCRIPTION:Join us at Urban Growler Brewing Company in St Paul for an awes
 ome run! Come join us for a 30-minute out-and-back run\, followed by some 
 great beer! We will meet at 6:20pm in the front of the facility and will s
 tart our run at 6:30 sharp so please plan to get there and parked on time.
  After our 30-minute run we’ll meet back at Urban Growler for a post-run
  beverage! If you are joining us\, make sure to RSVP on the website at or 
 the Facebook Event RBR Facebook Events.
CATEGORIES:Club Runs
LOCATION:Urban Growler Brewing Company\, 2325 Endicott St\, St Paul\, MN\, 
 55114\, United States
X-APPLE-STRUCTURED-LOCATION;VALUE=URI;X-ADDRESS=2325 Endicott St\, St Paul\
 , MN\, 55114\, United States;X-APPLE-RADIUS=100;X-TITLE=Urban Growler Brew
 ing Company:geo:0,0
END:VEVENT
BEGIN:VTIMEZONE
TZID:America/Chicago
X-LIC-LOCATION:America/Chicago
BEGIN:STANDARD
DTSTART:20251102T010000
TZOFFSETFROM:-0500
TZOFFSETTO:-0600
TZNAME:CST
END:STANDARD
END:VTIMEZONE
END:VCALENDAR