BEGIN:VCALENDAR
VERSION:2.0
PRODID:-//wp-events-plugin.com//7.2.3.1//EN
TZID:America/Chicago
X-WR-TIMEZONE:America/Chicago
BEGIN:VEVENT
UID:252@runbeerrepeat.com
DTSTART;TZID=America/Chicago:20230706T182000
DTEND;TZID=America/Chicago:20230706T203000
DTSTAMP:20230706T000908Z
URL:https://runbeerrepeat.com/events/utepils-brewing-on-june-6th/
SUMMARY:Utepils Brewing on July 6th
DESCRIPTION:Join us in Minneapolis at Utepils Brewing for our 1st July run.
  The group meets at 6:20 near the front of the brewery. We head out from t
 he brewery at 6:30 for a run or walk for 15 minutes\, then turn around and
  come back to socialize and drink some delicious beverages.  All running 
 or walking paces are welcome!
CATEGORIES:Club Runs
LOCATION:Utepils Brewing\, 225 Thomas Ave N # 700\, Minneapolis\, MN\, 5540
 5\, United States
GEO:44.9790369;-93.31277369999998
X-APPLE-STRUCTURED-LOCATION;VALUE=URI;X-ADDRESS=225 Thomas Ave N # 700\, Mi
 nneapolis\, MN\, 55405\, United States;X-APPLE-RADIUS=100;X-TITLE=Utepils 
 Brewing:geo:44.9790369,-93.31277369999998
END:VEVENT
BEGIN:VTIMEZONE
TZID:America/Chicago
X-LIC-LOCATION:America/Chicago
BEGIN:DAYLIGHT
DTSTART:20230312T030000
TZOFFSETFROM:-0600
TZOFFSETTO:-0500
TZNAME:CDT
END:DAYLIGHT
END:VTIMEZONE
END:VCALENDAR