BEGIN:VCALENDAR
VERSION:2.0
PRODID:-//wp-events-plugin.com//7.2.3.1//EN
TZID:America/Chicago
X-WR-TIMEZONE:America/Chicago
BEGIN:VEVENT
UID:300@runbeerrepeat.com
DTSTART;TZID=America/Chicago:20250220T183000
DTEND;TZID=America/Chicago:20250220T190000
DTSTAMP:20241220T220231Z
URL:https://runbeerrepeat.com/events/venn-brewing-co/
SUMMARY:Venn Brewing Co.
DESCRIPTION:Join us at Venn Brewing Co. in Minneapolis for an awesome run! 
 Come join us for a 30-minute out-and-back run\, followed by some great bee
 r! We will meet at 6:20pm in the front of the facility and will start our 
 run at 6:30 sharp so please plan to get there and parked on time. Since we
 ’ll be running in the dark\, be sure to bring a headlamp and wear reflec
 tive clothing for safety. After our 30-minute run we'll meet back at Venn 
 for a post-run beverage! If you are joining us\, make sure to RSVP on the 
 website at or the Facebook Event RBR Facebook Events.
CATEGORIES:Club Runs
LOCATION:Venn Brewing Co.\, 3550 E. 46th St Suite #140\, Minneapolis\, MN\,
  55406\, United States
X-APPLE-STRUCTURED-LOCATION;VALUE=URI;X-ADDRESS=3550 E. 46th St Suite #140\
 , Minneapolis\, MN\, 55406\, United States;X-APPLE-RADIUS=100;X-TITLE=Venn
  Brewing Co.:geo:0,0
END:VEVENT
BEGIN:VTIMEZONE
TZID:America/Chicago
X-LIC-LOCATION:America/Chicago
BEGIN:STANDARD
DTSTART:20241103T010000
TZOFFSETFROM:-0500
TZOFFSETTO:-0600
TZNAME:CST
END:STANDARD
END:VTIMEZONE
END:VCALENDAR