BEGIN:VCALENDAR
VERSION:2.0
PRODID:-//wp-events-plugin.com//7.2.3.1//EN
TZID:America/Chicago
X-WR-TIMEZONE:America/Chicago
BEGIN:VEVENT
UID:176@runbeerrepeat.com
DTSTART;TZID=America/Chicago:20200730T190000
DTEND;TZID=America/Chicago:20200730T210000
DTSTAMP:20200727T190403Z
URL:https://runbeerrepeat.com/events/virtual-happy-hour-july-30th/
SUMMARY:Virtual Happy Hour - July 30th
DESCRIPTION:Join us for a virtual happy hour after your Thursday run!\n\nht
 tps://us02web.zoom.us/j/83831931845?pwd=cXBGYWhJYzk1M3hDY0llWlhiRUM4UT09\n
 \nMeeting ID: 838 3193 1845\nPasscode: 904346\n\nDial-in: +1 312 626 6799\
 n
CATEGORIES:Club Runs
LOCATION:https://us02web.zoom.us/j/83831931845?pwd=cXBGYWhJYzk1M3hDY0llWlhi
 RUM4UT09
END:VEVENT
BEGIN:VTIMEZONE
TZID:America/Chicago
X-LIC-LOCATION:America/Chicago
BEGIN:DAYLIGHT
DTSTART:20200308T030000
TZOFFSETFROM:-0600
TZOFFSETTO:-0500
TZNAME:CDT
END:DAYLIGHT
END:VTIMEZONE
END:VCALENDAR