BEGIN:VCALENDAR
VERSION:2.0
PRODID:-//wp-events-plugin.com//7.2.3.1//EN
TZID:America/Chicago
X-WR-TIMEZONE:America/Chicago
BEGIN:VEVENT
UID:320@runbeerrepeat.com
DTSTART;TZID=America/Chicago:20251030T183000
DTEND;TZID=America/Chicago:20251030T190000
DTSTAMP:20250223T230812Z
URL:https://runbeerrepeat.com/events/wandering-leaf-brewing-company/
SUMMARY:Wandering Leaf Brewing Company
DESCRIPTION:Join us at Wandering Leaf Brewing Company in St. Paul for an aw
 esome run! Come join us for a 30-minute out-and-back run\, followed by som
 e great beer! We will meet at 6:20pm in the front of the facility and will
  start our run at 6:30 sharp so please plan to get there and parked on tim
 e. After our 30-minute run we’ll meet back at Wandering Leaf for a post-
 run beverage! If you are joining us\, make sure to RSVP on the website at 
 or the Facebook Event RBR Facebook Events.
CATEGORIES:Club Runs
LOCATION:Wandering Leaf Brewing Company\, 2463 7th St W\,  St Paul\, MN\, 5
 5116\, United States
X-APPLE-STRUCTURED-LOCATION;VALUE=URI;X-ADDRESS=2463 7th St W\,  St Paul\, 
 MN\, 55116\, United States;X-APPLE-RADIUS=100;X-TITLE=Wandering Leaf Brewi
 ng Company:geo:0,0
END:VEVENT
BEGIN:VTIMEZONE
TZID:America/Chicago
X-LIC-LOCATION:America/Chicago
BEGIN:DAYLIGHT
DTSTART:20250309T030000
TZOFFSETFROM:-0600
TZOFFSETTO:-0500
TZNAME:CDT
END:DAYLIGHT
END:VTIMEZONE
END:VCALENDAR