BEGIN:VCALENDAR
VERSION:2.0
PRODID:-//wp-events-plugin.com//7.2.3.1//EN
TZID:America/Chicago
X-WR-TIMEZONE:America/Chicago
BEGIN:VEVENT
UID:326@runbeerrepeat.com
DTSTART;TZID=America/Chicago:20260115T183000
DTEND;TZID=America/Chicago:20260115T190000
DTSTAMP:20250912T171804Z
URL:https://runbeerrepeat.com/events/wicked-wort-brewing-company/
SUMMARY:Wicked Wort Brewing Company
DESCRIPTION:Join us at Wicked Wort Brewing Company in Robbinsdale for an aw
 esome run! Come join us for a 30-minute out-and-back run\, followed by som
 e great beer! We will meet at 6:20pm in the front of the facility and will
  start our run at 6:30 sharp so please plan to get there and parked on tim
 e. After our 30-minute run we’ll meet back at Wicked Wort for a post-run
  beverage! If you are joining us\, make sure to RSVP on the website at or 
 the Facebook Event RBR Facebook Events.
CATEGORIES:Club Runs
LOCATION:Wicked Wort\, 4165 W Broadway Ave\, Robbinsdale\, MN\, 55422\, Uni
 ted States
GEO:45.0309112;-93.3392212
X-APPLE-STRUCTURED-LOCATION;VALUE=URI;X-ADDRESS=4165 W Broadway Ave\, Robbi
 nsdale\, MN\, 55422\, United States;X-APPLE-RADIUS=100;X-TITLE=Wicked Wort
 :geo:45.0309112,-93.3392212
END:VEVENT
BEGIN:VTIMEZONE
TZID:America/Chicago
X-LIC-LOCATION:America/Chicago
BEGIN:STANDARD
DTSTART:20251102T010000
TZOFFSETFROM:-0500
TZOFFSETTO:-0600
TZNAME:CST
END:STANDARD
END:VTIMEZONE
END:VCALENDAR